BEGIN:VCALENDAR
VERSION:2.0
PRODID:-//Sophicity/Tribune/Austell, GA
BEGIN:VEVENT
DTSTAMP:20260426T005406Z
UID:a1733420-de66-4c35-a6bc-729777b7b117-4623
DTSTART:20200412T160000Z
DTEND:20200412T180000Z
LOCATION:Threadmill Complex | 5000 Austell Powder Springs Rd
CLASS:PUBLIC
SUMMARY:Positive American Youth Food and Toiletry Giveaway
END:VEVENT
END:VCALENDAR
