BEGIN:VCALENDAR
VERSION:2.0
PRODID:-//Sophicity/Tribune/Austell, GA
BEGIN:VEVENT
DTSTAMP:20260426T005312Z
UID:a1733420-de66-4c35-a6bc-729777b7b117-4288
DTSTART:20200330T220000Z
DTEND:20200330T220000Z
CLASS:PUBLIC
SUMMARY:Pre-Agenda Postponed to April 6
END:VEVENT
END:VCALENDAR
