BEGIN:VCALENDAR
VERSION:2.0
PRODID:-//Sophicity/Tribune/Austell, GA
BEGIN:VEVENT
DTSTAMP:20260426T022242Z
UID:a1733420-de66-4c35-a6bc-729777b7b117-4287
DTSTART:20200324T220000Z
DTEND:20200324T230000Z
CLASS:PUBLIC
SUMMARY:Emergency Council Meeting 6pm
END:VEVENT
END:VCALENDAR
