BEGIN:VCALENDAR
VERSION:2.0
PRODID:-//Sophicity/Tribune/Austell, GA
BEGIN:VEVENT
DTSTAMP:20260426T005314Z
UID:a1733420-de66-4c35-a6bc-729777b7b117-4285
DTSTART:20200409T160000Z
DTEND:20200409T160000Z
CLASS:PUBLIC
SUMMARY:Court Cancelled
END:VEVENT
END:VCALENDAR
