BEGIN:VCALENDAR
VERSION:2.0
PRODID:-//Sophicity/Tribune/Austell, GA
BEGIN:VEVENT
DTSTAMP:20260426T022031Z
UID:a1733420-de66-4c35-a6bc-729777b7b117-4246
DTSTART:20200313T212000Z
DTEND:20200313T212000Z
CLASS:PUBLIC
SUMMARY:Committee Meetings Begin 2:30 PM (As needed)
END:VEVENT
END:VCALENDAR
