BEGIN:VCALENDAR
VERSION:2.0
PRODID:-//Sophicity/Tribune/Austell, GA
BEGIN:VEVENT
DTSTAMP:20260426T022211Z
UID:a1733420-de66-4c35-a6bc-729777b7b117-4245
DTSTART:20200318T183000Z
DTEND:20200318T193000Z
CLASS:PUBLIC
SUMMARY:Cancelled - Committee Meetings Begins 2:30 PM (As needed)
END:VEVENT
END:VCALENDAR
