BEGIN:VCALENDAR
VERSION:2.0
PRODID:-//Sophicity/Tribune/Austell, GA
BEGIN:VEVENT
DTSTAMP:20260426T022913Z
UID:a1733420-de66-4c35-a6bc-729777b7b117-4212
DTSTART:20200317T220000Z
DTEND:20200317T220000Z
CLASS:PUBLIC
SUMMARY:Planning and Zoning Meeting Cancelled
END:VEVENT
END:VCALENDAR
