BEGIN:VCALENDAR
VERSION:2.0
PRODID:-//Sophicity/Tribune/Austell, GA
BEGIN:VEVENT
DTSTAMP:20260426T022949Z
UID:a1733420-de66-4c35-a6bc-729777b7b117-4211
DTSTART:20200310T160000Z
DTEND:20200310T160000Z
CLASS:PUBLIC
SUMMARY:Planning and Zoning Meeting Cancelled
END:VEVENT
END:VCALENDAR
