BEGIN:VCALENDAR
VERSION:2.0
PRODID:-//Sophicity/Tribune/Austell, GA
BEGIN:VEVENT
DTSTAMP:20260426T035605Z
UID:a1733420-de66-4c35-a6bc-729777b7b117-4210
DTSTART:20200229T160000Z
DTEND:20200229T180000Z
LOCATION:Threadmill Complex
CLASS:PUBLIC
SUMMARY:Georgia Access to Medical Cannabis Commission Meeting
END:VEVENT
END:VCALENDAR
