BEGIN:VCALENDAR
VERSION:2.0
PRODID:-//Sophicity/Tribune/Austell, GA
BEGIN:VEVENT
DTSTAMP:20260426T035425Z
UID:a1733420-de66-4c35-a6bc-729777b7b117-4176
DTSTART:20200703T040000Z
DTEND:20200703T160000Z
CLASS:PUBLIC
SUMMARY:Holiday City Closed
END:VEVENT
END:VCALENDAR
