BEGIN:VCALENDAR
VERSION:2.0
PRODID:-//Sophicity/Tribune/Austell, GA
BEGIN:VEVENT
DTSTAMP:20260426T022458Z
UID:a1733420-de66-4c35-a6bc-729777b7b117-4171
DTSTART:20200525T040000Z
DTEND:20200525T160000Z
CLASS:PUBLIC
SUMMARY:Memorial Day City Closed Holiday
END:VEVENT
END:VCALENDAR
