BEGIN:VCALENDAR
VERSION:2.0
PRODID:-//Sophicity/Tribune/Austell, GA
BEGIN:VEVENT
DTSTAMP:20260426T005330Z
UID:a1733420-de66-4c35-a6bc-729777b7b117-4159
DTSTART:20200410T190000Z
DTEND:20200410T190000Z
CLASS:PUBLIC
SUMMARY:Good Friday- City Closes @ 3 PM
END:VEVENT
END:VCALENDAR
