BEGIN:VCALENDAR
VERSION:2.0
PRODID:-//Sophicity/Tribune/Austell, GA
BEGIN:VEVENT
DTSTAMP:20260426T035536Z
UID:a1733420-de66-4c35-a6bc-729777b7b117-4140
DTSTART:20200618T213000Z
DTEND:20200618T213000Z
CLASS:PUBLIC
SUMMARY:Court-Arraignment 5:30 PM 
END:VEVENT
END:VCALENDAR
