BEGIN:VCALENDAR
VERSION:2.0
PRODID:-//Sophicity/Tribune/Austell, GA
BEGIN:VEVENT
DTSTAMP:20260426T005251Z
UID:a1733420-de66-4c35-a6bc-729777b7b117-4136
DTSTART:20200416T213000Z
DTEND:20200416T213000Z
CLASS:PUBLIC
SUMMARY:Court-Arraignment Cancelled
END:VEVENT
END:VCALENDAR
