BEGIN:VCALENDAR
VERSION:2.0
PRODID:-//Sophicity/Tribune/Austell, GA
BEGIN:VEVENT
DTSTAMP:20260426T035556Z
UID:a1733420-de66-4c35-a6bc-729777b7b117-4132
DTSTART:20200213T223000Z
DTEND:20200213T223000Z
CLASS:PUBLIC
SUMMARY:Court-Arraignment 5:30 PM 
END:VEVENT
END:VCALENDAR
