BEGIN:VCALENDAR
VERSION:2.0
PRODID:-//Sophicity/Tribune/Austell, GA
BEGIN:VEVENT
DTSTAMP:20260426T005312Z
UID:a1733420-de66-4c35-a6bc-729777b7b117-4121
DTSTART:20200406T230000Z
DTEND:20200406T230000Z
CLASS:PUBLIC
SUMMARY:Council Mtg. 7 PM
END:VEVENT
END:VCALENDAR
