BEGIN:VCALENDAR
VERSION:2.0
PRODID:-//Sophicity/Tribune/Austell, GA
BEGIN:VEVENT
DTSTAMP:20260426T035536Z
UID:a1733420-de66-4c35-a6bc-729777b7b117-4119
DTSTART:20200204T000000Z
DTEND:20200204T000000Z
CLASS:PUBLIC
SUMMARY:Council Mtg. 7 PM
END:VEVENT
END:VCALENDAR
