BEGIN:VCALENDAR
VERSION:2.0
PRODID:-//Sophicity/Tribune/Austell, GA
BEGIN:VEVENT
DTSTAMP:20260426T035420Z
UID:a1733420-de66-4c35-a6bc-729777b7b117-4101
DTSTART:20200625T230000Z
DTEND:20200625T230000Z
CLASS:PUBLIC
SUMMARY:Austell Gas Board Mtg. 7 PM 
END:VEVENT
END:VCALENDAR
