BEGIN:VCALENDAR
VERSION:2.0
PRODID:-//Sophicity/Tribune/Austell, GA
BEGIN:VEVENT
DTSTAMP:20260426T021652Z
UID:a1733420-de66-4c35-a6bc-729777b7b117-4100
DTSTART:20200528T230000Z
DTEND:20200528T230000Z
CLASS:PUBLIC
SUMMARY:Austell Gas Board Mtg. 7 PM 
END:VEVENT
END:VCALENDAR
