BEGIN:VCALENDAR
VERSION:2.0
PRODID:-//Sophicity/Tribune/Austell, GA
BEGIN:VEVENT
DTSTAMP:20260426T005314Z
UID:a1733420-de66-4c35-a6bc-729777b7b117-4099
DTSTART:20200423T230000Z
DTEND:20200423T230000Z
CLASS:PUBLIC
SUMMARY:Austell Gas Board Mtg. Cancelled
END:VEVENT
END:VCALENDAR
