BEGIN:VCALENDAR
VERSION:2.0
PRODID:-//Sophicity/Tribune/Austell, GA
BEGIN:VEVENT
DTSTAMP:20260426T035421Z
UID:a1733420-de66-4c35-a6bc-729777b7b117-4097
DTSTART:20200228T000000Z
DTEND:20200228T000000Z
CLASS:PUBLIC
SUMMARY:Austell Gas Board Mtg. 7 PM 
END:VEVENT
END:VCALENDAR
