BEGIN:VCALENDAR
VERSION:2.0
PRODID:-//Sophicity/Tribune/Austell, GA
BEGIN:VEVENT
DTSTAMP:20260426T035536Z
UID:a1733420-de66-4c35-a6bc-729777b7b117-3958
DTSTART:20200609T220000Z
DTEND:20200609T220000Z
CLASS:PUBLIC
SUMMARY:Planning and Zoning Meeting
END:VEVENT
END:VCALENDAR
