BEGIN:VCALENDAR
VERSION:2.0
PRODID:-//Sophicity/Tribune/Austell, GA
BEGIN:VEVENT
DTSTAMP:20260426T035557Z
UID:a1733420-de66-4c35-a6bc-729777b7b117-3954
DTSTART:20200211T230000Z
DTEND:20200211T230000Z
CLASS:PUBLIC
SUMMARY:Planning and Zoning Meeting
END:VEVENT
END:VCALENDAR
